BEGIN:VCALENDAR
PRODID:-//github.com/rianjs/ical.net//NONSGML ical.net 4.0//EN
VERSION:2.0
BEGIN:VTIMEZONE
TZID:Central Standard Time
X-LIC-LOCATION:America/Chicago
BEGIN:STANDARD
DTSTART:20241103T020000
RRULE:FREQ=YEARLY;BYDAY=1SU;BYMONTH=11
TZNAME:CST
TZOFFSETFROM:-0500
TZOFFSETTO:-0600
END:STANDARD
BEGIN:DAYLIGHT
DTSTART:20250309T020000
RRULE:FREQ=YEARLY;BYDAY=2SU;BYMONTH=3
TZNAME:CDT
TZOFFSETFROM:-0600
TZOFFSETTO:-0500
END:DAYLIGHT
END:VTIMEZONE
BEGIN:VEVENT
DTEND;TZID=Central Standard Time:20260504T210000
DTSTAMP:20260422T231612Z
DTSTART;TZID=Central Standard Time:20260504T190000
LOCATION:The Fargo Theatre 314 Broadway North Fargo\, ND 58102-4715
ORGANIZER;CN=;SENT-BY="mailto:":
SEQUENCE:0
SUMMARY:DCP: ROGUE ONE: A STAR WARS STORY - May the 4th Special Screening
UID:5ef5a4a7-bd64-4439-b060-b1c2d0222523
END:VEVENT
END:VCALENDAR
