BEGIN:VCALENDAR
PRODID:-//github.com/rianjs/ical.net//NONSGML ical.net 4.0//EN
VERSION:2.0
BEGIN:VTIMEZONE
TZID:Central Standard Time
X-LIC-LOCATION:America/Chicago
BEGIN:STANDARD
DTSTART:20241103T020000
RRULE:FREQ=YEARLY;BYDAY=1SU;BYMONTH=11
TZNAME:CST
TZOFFSETFROM:-0500
TZOFFSETTO:-0600
END:STANDARD
BEGIN:DAYLIGHT
DTSTART:20250309T020000
RRULE:FREQ=YEARLY;BYDAY=2SU;BYMONTH=3
TZNAME:CDT
TZOFFSETFROM:-0600
TZOFFSETTO:-0500
END:DAYLIGHT
END:VTIMEZONE
BEGIN:VEVENT
DTEND;TZID=Central Standard Time;VALUE=DATE:20260511
DTSTAMP:20260420T072216Z
DTSTART;TZID=Central Standard Time;VALUE=DATE:20260508
LOCATION:Drekker Brewing Company 1666 1st Avenue North Fargo\, ND 58102
ORGANIZER;CN=;SENT-BY="mailto:":
SEQUENCE:0
SUMMARY:DCP: Hel's Füry Tattoo Fest!
UID:cb474fd0-aaeb-43a9-9337-ed547fb6d126
END:VEVENT
END:VCALENDAR
