BEGIN:VCALENDAR
PRODID:-//github.com/rianjs/ical.net//NONSGML ical.net 4.0//EN
VERSION:2.0
BEGIN:VTIMEZONE
TZID:Central Standard Time
X-LIC-LOCATION:America/Chicago
BEGIN:STANDARD
DTSTART:20241103T020000
RRULE:FREQ=YEARLY;BYDAY=1SU;BYMONTH=11
TZNAME:CST
TZOFFSETFROM:-0500
TZOFFSETTO:-0600
END:STANDARD
BEGIN:DAYLIGHT
DTSTART:20250309T020000
RRULE:FREQ=YEARLY;BYDAY=2SU;BYMONTH=3
TZNAME:CDT
TZOFFSETFROM:-0600
TZOFFSETTO:-0500
END:DAYLIGHT
END:VTIMEZONE
BEGIN:VEVENT
DTEND;TZID=Central Standard Time;VALUE=DATE:20260531
DTSTAMP:20260421T092726Z
DTSTART;TZID=Central Standard Time;VALUE=DATE:20260529
LOCATION:Fargodome 1800 North University Drive Fargo\, ND 58102-2241 Unite
 d States
ORGANIZER;CN=;SENT-BY="mailto:":
SEQUENCE:0
SUMMARY:DCP: Essentia Health Fargo Marathon
UID:74af8cad-7480-436d-be2d-d4eebb771fcf
END:VEVENT
END:VCALENDAR
