BEGIN:VCALENDAR
PRODID:-//github.com/rianjs/ical.net//NONSGML ical.net 4.0//EN
VERSION:2.0
BEGIN:VTIMEZONE
TZID:Central Standard Time
X-LIC-LOCATION:America/Chicago
BEGIN:STANDARD
DTSTART:20241103T020000
RRULE:FREQ=YEARLY;BYDAY=1SU;BYMONTH=11
TZNAME:CST
TZOFFSETFROM:-0500
TZOFFSETTO:-0600
END:STANDARD
BEGIN:DAYLIGHT
DTSTART:20250309T020000
RRULE:FREQ=YEARLY;BYDAY=2SU;BYMONTH=3
TZNAME:CDT
TZOFFSETFROM:-0600
TZOFFSETTO:-0500
END:DAYLIGHT
END:VTIMEZONE
BEGIN:VEVENT
DTEND;TZID=Central Standard Time:20250731T150000
DTSTAMP:20260420T082949Z
DTSTART;TZID=Central Standard Time:20250731T120000
LOCATION:Plains Art Museum 704 1st Avenue North Fargo\, ND 58102-4904
ORGANIZER;CN=;SENT-BY="mailto:":
SEQUENCE:0
SUMMARY:DCP: Japan Art Festival
UID:63d84b56-33f5-4c24-86dc-eefa08b31668
END:VEVENT
END:VCALENDAR
