BEGIN:VCALENDAR
PRODID:-//github.com/rianjs/ical.net//NONSGML ical.net 4.0//EN
VERSION:2.0
BEGIN:VTIMEZONE
TZID:Central Standard Time
X-LIC-LOCATION:America/Chicago
BEGIN:STANDARD
DTSTART:20241103T020000
RRULE:FREQ=YEARLY;BYDAY=1SU;BYMONTH=11
TZNAME:CST
TZOFFSETFROM:-0500
TZOFFSETTO:-0600
END:STANDARD
BEGIN:DAYLIGHT
DTSTART:20250309T020000
RRULE:FREQ=YEARLY;BYDAY=2SU;BYMONTH=3
TZNAME:CDT
TZOFFSETFROM:-0600
TZOFFSETTO:-0500
END:DAYLIGHT
END:VTIMEZONE
BEGIN:VEVENT
DTEND;TZID=Central Standard Time:20250611T120000
DTSTAMP:20260420T083132Z
DTSTART;TZID=Central Standard Time:20250611T110000
LOCATION:Ferguson Books Downtown Fargo 214 Roberts Alley Fargo\, ND 58102
ORGANIZER;CN=;SENT-BY="mailto:":
SEQUENCE:0
SUMMARY:DCP: Children's Summertime Storytime!
UID:6beeb80f-f79c-4142-85aa-b7eafe5c00ed
END:VEVENT
END:VCALENDAR
